BEGIN:VCALENDAR
VERSION:2.0
PRODID:-//Lola&#039;s Lakehouse - ECPv6.15.17.1//NONSGML v1.0//EN
CALSCALE:GREGORIAN
METHOD:PUBLISH
X-WR-CALNAME:Lola&#039;s Lakehouse
X-ORIGINAL-URL:https://lolaslakehouse.com
X-WR-CALDESC:Events for Lola&#039;s Lakehouse
REFRESH-INTERVAL;VALUE=DURATION:PT1H
X-Robots-Tag:noindex
X-PUBLISHED-TTL:PT1H
BEGIN:VTIMEZONE
TZID:America/Chicago
BEGIN:DAYLIGHT
TZOFFSETFROM:-0600
TZOFFSETTO:-0500
TZNAME:CDT
DTSTART:20240310T080000
END:DAYLIGHT
BEGIN:STANDARD
TZOFFSETFROM:-0500
TZOFFSETTO:-0600
TZNAME:CST
DTSTART:20241103T070000
END:STANDARD
BEGIN:DAYLIGHT
TZOFFSETFROM:-0600
TZOFFSETTO:-0500
TZNAME:CDT
DTSTART:20250309T080000
END:DAYLIGHT
BEGIN:STANDARD
TZOFFSETFROM:-0500
TZOFFSETTO:-0600
TZNAME:CST
DTSTART:20251102T070000
END:STANDARD
BEGIN:DAYLIGHT
TZOFFSETFROM:-0600
TZOFFSETTO:-0500
TZNAME:CDT
DTSTART:20260308T080000
END:DAYLIGHT
BEGIN:STANDARD
TZOFFSETFROM:-0500
TZOFFSETTO:-0600
TZNAME:CST
DTSTART:20261101T070000
END:STANDARD
END:VTIMEZONE
BEGIN:VEVENT
DTSTART;TZID=America/Chicago:20251108T110000
DTEND;TZID=America/Chicago:20251108T160000
DTSTAMP:20260424T084629
CREATED:20251105T235200Z
LAST-MODIFIED:20251105T235200Z
UID:3463-1762599600-1762617600@lolaslakehouse.com
SUMMARY:D.E.A.R Day at Lola's Lakehouse
DESCRIPTION:Get ready for Waconia’s 18th Annual D.E.A.R Day! On Saturday\, November 8th from 9:00am to 4:00pm\, Divas Enjoy Awesome Retail! Join us at Lola’s Lakehouse for $2 OYSTERS and 1/2 PRICED BOTTLES of BUBBLES! Treating yourself is always in season. Reservations accepted\, spontaneous celebrations welcomed.
URL:https://lolaslakehouse.com/event/d-e-a-r-day-at-lolas-lakehouse/
ATTACH;FMTTYPE=image/jpeg:https://lolaslakehouse.com/wp-content/uploads/2025/11/486548368_1066044192230218_5598846061827247469_n-e1762386706909.jpg
END:VEVENT
END:VCALENDAR