BEGIN:VCALENDAR
VERSION:2.0
PRODID:-//Lola&#039;s Lakehouse - ECPv6.15.17.1//NONSGML v1.0//EN
CALSCALE:GREGORIAN
METHOD:PUBLISH
X-ORIGINAL-URL:https://lolaslakehouse.com
X-WR-CALDESC:Events for Lola&#039;s Lakehouse
REFRESH-INTERVAL;VALUE=DURATION:PT1H
X-Robots-Tag:noindex
X-PUBLISHED-TTL:PT1H
BEGIN:VTIMEZONE
TZID:America/Chicago
BEGIN:DAYLIGHT
TZOFFSETFROM:-0600
TZOFFSETTO:-0500
TZNAME:CDT
DTSTART:20250309T080000
END:DAYLIGHT
BEGIN:STANDARD
TZOFFSETFROM:-0500
TZOFFSETTO:-0600
TZNAME:CST
DTSTART:20251102T070000
END:STANDARD
BEGIN:DAYLIGHT
TZOFFSETFROM:-0600
TZOFFSETTO:-0500
TZNAME:CDT
DTSTART:20260308T080000
END:DAYLIGHT
BEGIN:STANDARD
TZOFFSETFROM:-0500
TZOFFSETTO:-0600
TZNAME:CST
DTSTART:20261101T070000
END:STANDARD
BEGIN:DAYLIGHT
TZOFFSETFROM:-0600
TZOFFSETTO:-0500
TZNAME:CDT
DTSTART:20270314T080000
END:DAYLIGHT
BEGIN:STANDARD
TZOFFSETFROM:-0500
TZOFFSETTO:-0600
TZNAME:CST
DTSTART:20271107T070000
END:STANDARD
END:VTIMEZONE
BEGIN:VEVENT
DTSTART;TZID=America/Chicago:20260105T080000
DTEND;TZID=America/Chicago:20260108T230000
DTSTAMP:20260420T085727
CREATED:20260101T234647Z
LAST-MODIFIED:20260101T234823Z
UID:3476-1767600000-1767913200@lolaslakehouse.com
SUMMARY:Lola's Lakehouse Temporarily Closed Post Holiday
DESCRIPTION:Lola’s Lakehouse will be temporarily closed for regular service Monday\, January 5th through Thursday\, January 8th while our team carefully pack away the tinsel and trimmings of another spectacularly merry holiday season of JINGLE BAR! We look forward to welcoming you back to a refreshed space\, signature lakeside hospitality and culinary craft Friday\, January 9th.
URL:https://lolaslakehouse.com/event/lolas-lakehouse-temporarily-closed/
ATTACH;FMTTYPE=image/jpeg:https://lolaslakehouse.com/wp-content/uploads/2026/01/ChatGPT-Image-Dec-4-2025-03_41_37-PM-e1767311189137.jpg
END:VEVENT
END:VCALENDAR