BEGIN:VCALENDAR
VERSION:2.0
PRODID:-//Lola&#039;s Lakehouse - ECPv6.15.17.1//NONSGML v1.0//EN
CALSCALE:GREGORIAN
METHOD:PUBLISH
X-WR-CALNAME:Lola&#039;s Lakehouse
X-ORIGINAL-URL:https://lolaslakehouse.com
X-WR-CALDESC:Events for Lola&#039;s Lakehouse
REFRESH-INTERVAL;VALUE=DURATION:PT1H
X-Robots-Tag:noindex
X-PUBLISHED-TTL:PT1H
BEGIN:VTIMEZONE
TZID:America/Chicago
BEGIN:DAYLIGHT
TZOFFSETFROM:-0600
TZOFFSETTO:-0500
TZNAME:CDT
DTSTART:20250309T080000
END:DAYLIGHT
BEGIN:STANDARD
TZOFFSETFROM:-0500
TZOFFSETTO:-0600
TZNAME:CST
DTSTART:20251102T070000
END:STANDARD
BEGIN:DAYLIGHT
TZOFFSETFROM:-0600
TZOFFSETTO:-0500
TZNAME:CDT
DTSTART:20260308T080000
END:DAYLIGHT
BEGIN:STANDARD
TZOFFSETFROM:-0500
TZOFFSETTO:-0600
TZNAME:CST
DTSTART:20261101T070000
END:STANDARD
BEGIN:DAYLIGHT
TZOFFSETFROM:-0600
TZOFFSETTO:-0500
TZNAME:CDT
DTSTART:20270314T080000
END:DAYLIGHT
BEGIN:STANDARD
TZOFFSETFROM:-0500
TZOFFSETTO:-0600
TZNAME:CST
DTSTART:20271107T070000
END:STANDARD
END:VTIMEZONE
BEGIN:VEVENT
DTSTART;TZID=America/Chicago:20260223T110000
DTEND;TZID=America/Chicago:20260301T230000
DTSTAMP:20260420T085438
CREATED:20260210T191404Z
LAST-MODIFIED:20260210T191516Z
UID:3515-1771844400-1772406000@lolaslakehouse.com
SUMMARY:Mpls.St.Paul Magazine Winter Restaurant Week
DESCRIPTION:Make your reservations for Mpls.St.Paul Magazine’s Winter Restaurant Week! Lola’s Lakehouse is proud to present a Chef curated menu at both Lunch and Dinner service to highlight our passion for responsibly sourced seafood and choice cuts\, lakeside. Discover your favorite flavors from a selection of prix fixe appetizers\, entrees and desserts. Cheers! \nMpls.St.Paul Magazine Winter Restaurant Week Menu  \n$40 Per Guest at Lunch and Dinner Service | Choose 1 of Each Course \nStarter:\nCup Lobster Bisque\nCup Clam Chowder\nHouse Salad with Cherry Tomato\, Cucumber\, Shaved Parmesan\, and Herb Vinaigrette\nCaesar Salad with Garlic Croutons and Parmesan Dressing\nWinter Salad with Butternut Squash\, Arugula\, Pickled Red Onion\, Roasted Cauliflower\, Pepitas\, and Goat Cheese \nEntree:\nBalsamic Pot Roast with Potato Puree and Baby Carrots\nRigatoni Lamb Bolognese with Pecorino\nPan Roasted Chicken Breast with Spaghetti Squash\, Roasted Cauliflower\, and Chicken Jus\nCanadian Walleye Piccata with Yukon Potato Puree\, lemon\, and Capers\nVegetable Coconut Curry with Roasted Cauliflower\, Butternut Squash\, Broccolini\, Cilantro\, and Jasmine Rice \nDessert:\nButterscotch Bread Pudding with Crème Anglaise\nChocolate Mousse Cake with Raspberry Coulis
URL:https://lolaslakehouse.com/event/mpls-st-paul-magazine-winter-restaurant-week-2026/
ATTACH;FMTTYPE=image/jpeg:https://lolaslakehouse.com/wp-content/uploads/2026/02/LolasLakehouse_RestaurantWeek_Spring2026-09-scaled-e1770750904895.jpg
END:VEVENT
END:VCALENDAR