BEGIN:VCALENDAR
VERSION:2.0
PRODID:-//Lola&#039;s Lakehouse - ECPv6.15.17.1//NONSGML v1.0//EN
CALSCALE:GREGORIAN
METHOD:PUBLISH
X-WR-CALNAME:Lola&#039;s Lakehouse
X-ORIGINAL-URL:https://lolaslakehouse.com
X-WR-CALDESC:Events for Lola&#039;s Lakehouse
REFRESH-INTERVAL;VALUE=DURATION:PT1H
X-Robots-Tag:noindex
X-PUBLISHED-TTL:PT1H
BEGIN:VTIMEZONE
TZID:America/Chicago
BEGIN:DAYLIGHT
TZOFFSETFROM:-0600
TZOFFSETTO:-0500
TZNAME:CDT
DTSTART:20250309T080000
END:DAYLIGHT
BEGIN:STANDARD
TZOFFSETFROM:-0500
TZOFFSETTO:-0600
TZNAME:CST
DTSTART:20251102T070000
END:STANDARD
BEGIN:DAYLIGHT
TZOFFSETFROM:-0600
TZOFFSETTO:-0500
TZNAME:CDT
DTSTART:20260308T080000
END:DAYLIGHT
BEGIN:STANDARD
TZOFFSETFROM:-0500
TZOFFSETTO:-0600
TZNAME:CST
DTSTART:20261101T070000
END:STANDARD
BEGIN:DAYLIGHT
TZOFFSETFROM:-0600
TZOFFSETTO:-0500
TZNAME:CDT
DTSTART:20270314T080000
END:DAYLIGHT
BEGIN:STANDARD
TZOFFSETFROM:-0500
TZOFFSETTO:-0600
TZNAME:CST
DTSTART:20271107T070000
END:STANDARD
END:VTIMEZONE
BEGIN:VEVENT
DTSTART;TZID=America/Chicago:20260314T103000
DTEND;TZID=America/Chicago:20260317T230000
DTSTAMP:20260424T084711
CREATED:20260306T174551Z
LAST-MODIFIED:20260312T185338Z
UID:3537-1773484200-1773788400@lolaslakehouse.com
SUMMARY:St. Patrick's Weekend at Lola's Lakehouse
DESCRIPTION:St. Patrick’s Day Weekend is taking over the bar at Lola’s Lakehouse and you’re invited to eat\, sip\, and celebrate lakeside. 🍀 All weekend long\, we’re pouring $5 taps\, $4 bottles\, and $6 well drinks\, dressing the bar up in glowing green\, and serving an ALL-DAY Irish Feature Menu\, available alongside our signature offerings. Here’s our plan to keep the good times rolling:  \nSaturday: Kegs + Eggs starts at 10:00am! Kick the weekend off right\, bright and early with Corned Beef Hash & Eggs or a Lola’s Irish Breakfast Wrap. Share a round of Mimosas\, Bloody Marys\, Green Beer\, Guinness\, Harp Red Ale and Smithwick’s.  \nSunday: Celebrate Sláinte Day with Live Music performed by Rich Larson beginning at 5:00pm. Enjoy a curated Irish Whiskey Flight featuring 3 traditional pours of Slane\, Keeper’s Heart and Jameson. Also available\, featured speciality cocktails\, soft pretzel and wagyu sliders for snacking!  \nMonday: Make it a mission! Complete your very own Irish Passport during your visit.Check off a specialty cocktail or flight\, featured entree\, think Bangers + Mash with Stout Gravy and Wagyu Corned Beef\, and sweet treat to be entered into the weekend’s prize drawing for gift cards and merch!  \nTuesday: Costume Contest + Giveaway Announcements! Feeling Lucky? Go for gold in your best green ensemble while enjoying the festivities!
URL:https://lolaslakehouse.com/event/st-patricks-weekend-at-lolas-lakehouse/
ATTACH;FMTTYPE=image/jpeg:https://lolaslakehouse.com/wp-content/uploads/2026/03/LolasLakehouse_StPatricksDay_2026-20-copy-scaled-e1772819113488.jpg
END:VEVENT
END:VCALENDAR