BEGIN:VCALENDAR
VERSION:2.0
PRODID:-//Lola&#039;s Lakehouse - ECPv6.15.17.1//NONSGML v1.0//EN
CALSCALE:GREGORIAN
METHOD:PUBLISH
X-ORIGINAL-URL:https://lolaslakehouse.com
X-WR-CALDESC:Events for Lola&#039;s Lakehouse
REFRESH-INTERVAL;VALUE=DURATION:PT1H
X-Robots-Tag:noindex
X-PUBLISHED-TTL:PT1H
BEGIN:VTIMEZONE
TZID:America/Chicago
BEGIN:DAYLIGHT
TZOFFSETFROM:-0600
TZOFFSETTO:-0500
TZNAME:CDT
DTSTART:20250309T080000
END:DAYLIGHT
BEGIN:STANDARD
TZOFFSETFROM:-0500
TZOFFSETTO:-0600
TZNAME:CST
DTSTART:20251102T070000
END:STANDARD
BEGIN:DAYLIGHT
TZOFFSETFROM:-0600
TZOFFSETTO:-0500
TZNAME:CDT
DTSTART:20260308T080000
END:DAYLIGHT
BEGIN:STANDARD
TZOFFSETFROM:-0500
TZOFFSETTO:-0600
TZNAME:CST
DTSTART:20261101T070000
END:STANDARD
BEGIN:DAYLIGHT
TZOFFSETFROM:-0600
TZOFFSETTO:-0500
TZNAME:CDT
DTSTART:20270314T080000
END:DAYLIGHT
BEGIN:STANDARD
TZOFFSETFROM:-0500
TZOFFSETTO:-0600
TZNAME:CST
DTSTART:20271107T070000
END:STANDARD
END:VTIMEZONE
BEGIN:VEVENT
DTSTART;TZID=America/Chicago:20260401T160000
DTEND;TZID=America/Chicago:20260401T180000
DTSTAMP:20260422T055448
CREATED:20260312T183956Z
LAST-MODIFIED:20260328T203038Z
UID:3542-1775059200-1775066400@lolaslakehouse.com
SUMMARY:Wine Wednesday Tasting Series
DESCRIPTION:Kelsey of Treasury Wine Estates is visiting for the first of many Wine Wednesdays\, a series of complimentary tastings here at Lola’s Lakehouse. Explore Daou Vineyard wines with a free tasting from 4:00 to 6:00pm Wednesday\, April 1st. Additional features to come this Spring!
URL:https://lolaslakehouse.com/event/wine-wednesday-tasting-series-3/
ATTACH;FMTTYPE=image/jpeg:https://lolaslakehouse.com/wp-content/uploads/2026/03/Gift-Card-Header_4af59f72-a576-b136-e24d2a395c36f872-scaled-e1773340782421.jpg
END:VEVENT
END:VCALENDAR