BEGIN:VCALENDAR
VERSION:2.0
PRODID:-//Lola&#039;s Lakehouse - ECPv6.15.17.1//NONSGML v1.0//EN
CALSCALE:GREGORIAN
METHOD:PUBLISH
X-WR-CALNAME:Lola&#039;s Lakehouse
X-ORIGINAL-URL:https://lolaslakehouse.com
X-WR-CALDESC:Events for Lola&#039;s Lakehouse
REFRESH-INTERVAL;VALUE=DURATION:PT1H
X-Robots-Tag:noindex
X-PUBLISHED-TTL:PT1H
BEGIN:VTIMEZONE
TZID:America/Chicago
BEGIN:DAYLIGHT
TZOFFSETFROM:-0600
TZOFFSETTO:-0500
TZNAME:CDT
DTSTART:20230312T080000
END:DAYLIGHT
BEGIN:STANDARD
TZOFFSETFROM:-0500
TZOFFSETTO:-0600
TZNAME:CST
DTSTART:20231105T070000
END:STANDARD
BEGIN:DAYLIGHT
TZOFFSETFROM:-0600
TZOFFSETTO:-0500
TZNAME:CDT
DTSTART:20240310T080000
END:DAYLIGHT
BEGIN:STANDARD
TZOFFSETFROM:-0500
TZOFFSETTO:-0600
TZNAME:CST
DTSTART:20241103T070000
END:STANDARD
BEGIN:DAYLIGHT
TZOFFSETFROM:-0600
TZOFFSETTO:-0500
TZNAME:CDT
DTSTART:20250309T080000
END:DAYLIGHT
BEGIN:STANDARD
TZOFFSETFROM:-0500
TZOFFSETTO:-0600
TZNAME:CST
DTSTART:20251102T070000
END:STANDARD
END:VTIMEZONE
BEGIN:VEVENT
DTSTART;TZID=America/Chicago:20240918T170000
DTEND;TZID=America/Chicago:20240918T170000
DTSTAMP:20260425T052933
CREATED:20240904T034633Z
LAST-MODIFIED:20240904T034633Z
UID:3057-1726678800-1726678800@lolaslakehouse.com
SUMMARY:Live Music: Tyler Herwig
DESCRIPTION:
URL:https://lolaslakehouse.com/event/live-music-tyler-herwig-4/
CATEGORIES:Live Music
ATTACH;FMTTYPE=image/jpeg:https://lolaslakehouse.com/wp-content/uploads/2024/05/MusicTylerHerwigMusic-e1725421565455.jpeg
END:VEVENT
BEGIN:VEVENT
DTSTART;TZID=America/Chicago:20240913T180000
DTEND;TZID=America/Chicago:20240913T180000
DTSTAMP:20260425T052933
CREATED:20240904T034500Z
LAST-MODIFIED:20240904T034500Z
UID:3055-1726250400-1726250400@lolaslakehouse.com
SUMMARY:Live Music: Chris Depoian
DESCRIPTION:
URL:https://lolaslakehouse.com/event/live-music-chris-depoian/
CATEGORIES:Live Music
ATTACH;FMTTYPE=image/jpeg:https://lolaslakehouse.com/wp-content/uploads/2024/09/LLH24LiveAtTheLake032sqB-e1725421482604.jpg
END:VEVENT
BEGIN:VEVENT
DTSTART;TZID=America/Chicago:20240911T170000
DTEND;TZID=America/Chicago:20240911T170000
DTSTAMP:20260425T052933
CREATED:20240904T033106Z
LAST-MODIFIED:20240904T033106Z
UID:3054-1726074000-1726074000@lolaslakehouse.com
SUMMARY:Live Music: Thomas Sticha
DESCRIPTION:
URL:https://lolaslakehouse.com/event/live-music-thomas-sticha-4/
CATEGORIES:Live Music
ATTACH;FMTTYPE=image/jpeg:https://lolaslakehouse.com/wp-content/uploads/2024/05/MusicSticha-e1716994244194.jpg
END:VEVENT
BEGIN:VEVENT
DTSTART;TZID=America/Chicago:20240904T170000
DTEND;TZID=America/Chicago:20240904T170000
DTSTAMP:20260425T052933
CREATED:20240904T032926Z
LAST-MODIFIED:20240904T032926Z
UID:3051-1725469200-1725469200@lolaslakehouse.com
SUMMARY:Live Music: Mitch Gordon
DESCRIPTION:
URL:https://lolaslakehouse.com/event/live-music-mitch-gordon/
CATEGORIES:Live Music
ATTACH;FMTTYPE=image/jpeg:https://lolaslakehouse.com/wp-content/uploads/2024/09/LLHMitchGordonMusic-e1725420548980.jpg
END:VEVENT
BEGIN:VEVENT
DTSTART;TZID=America/Chicago:20240830T180000
DTEND;TZID=America/Chicago:20240830T180000
DTSTAMP:20260425T052933
CREATED:20240805T053850Z
LAST-MODIFIED:20240805T053850Z
UID:2975-1725040800-1725040800@lolaslakehouse.com
SUMMARY:LIVE MUSIC: BRUCE BEDNARCHUK
DESCRIPTION:
URL:https://lolaslakehouse.com/event/live-music-bruce-bednarchuk-3/
CATEGORIES:Live Music
ATTACH;FMTTYPE=image/jpeg:https://lolaslakehouse.com/wp-content/uploads/2024/05/MusicBruceBednarchuk01-e1716997234792.jpg
END:VEVENT
BEGIN:VEVENT
DTSTART;TZID=America/Chicago:20240825T130000
DTEND;TZID=America/Chicago:20240825T130000
DTSTAMP:20260425T052933
CREATED:20240805T053744Z
LAST-MODIFIED:20240805T053744Z
UID:2974-1724590800-1724590800@lolaslakehouse.com
SUMMARY:LIVE MUSIC: MIKE BUSTIN
DESCRIPTION:
URL:https://lolaslakehouse.com/event/live-music-mike-bustin-3/
CATEGORIES:Live Music
ATTACH;FMTTYPE=image/jpeg:https://lolaslakehouse.com/wp-content/uploads/2024/05/LLHMusicMikeBustin-e1716996038901.jpeg
END:VEVENT
BEGIN:VEVENT
DTSTART;TZID=America/Chicago:20240823T180000
DTEND;TZID=America/Chicago:20240823T180000
DTSTAMP:20260425T052933
CREATED:20240805T053653Z
LAST-MODIFIED:20240805T053653Z
UID:2973-1724436000-1724436000@lolaslakehouse.com
SUMMARY:LIVE MUSIC: CHAD JOHNSON & THE MT'S
DESCRIPTION:
URL:https://lolaslakehouse.com/event/live-music-chad-johnson-the-mts/
CATEGORIES:Live Music
ATTACH;FMTTYPE=image/jpeg:https://lolaslakehouse.com/wp-content/uploads/2024/07/MusicChadJohnsonAcousticDuo.jpg
END:VEVENT
BEGIN:VEVENT
DTSTART;TZID=America/Chicago:20240822T183000
DTEND;TZID=America/Chicago:20240822T183000
DTSTAMP:20260425T052933
CREATED:20240806T191307Z
LAST-MODIFIED:20240815T161407Z
UID:2976-1724351400-1724351400@lolaslakehouse.com
SUMMARY:J. CARVER DISTILLERY BOURBON & RYE DINNER
DESCRIPTION:Join us for an evening of handcrafted cocktails and chilled pours featuring six unique J. Carver Distillery aged Whiskeys on Thursday\, August 22nd at 6:30pm. Our Executive Chef\, Nate Mickelsen\, has crafted five divine courses that pair perfectly with each Bourbon and Rye. You’ll learn all about the food and cocktails from Chef Nate and founders of J. Carver Distillery\, Gina Holman and Bill Miller. \nFIRST COURSE\nCold Smoked Salmon\nGreek Yogurt\, Basil Pesto\, Curried Granola\, Breakfast Radish\, Dill\nFeaturing J. Carver Brickyard 7 Year Bourbon \nSECOND COURSE\nCaramelized Cauliflower\nGoat Cheese Fondue\, Brown Butter\, Caper Gremolata\nFeaturing J. Carver Straight Bourbon\n“Best Bourbon in Minnesota”\n– Growler Magazine \nTHIRD COURSE\nBacon & Crab Stuffed Walleye\nWild Rice Pilaf & Bourbon Beurre Blanc\nFeaturing J. Carver 7 Year Bourbon \nFOURTH COURSE\nCold Smoked Pork Chops\nPear & Onion Chutney\nFeaturing J. Carver Runestone Straight Rye \nFIFTH COURSE\nRye Spiked Vanilla Bean Crème Brûlée\nBerries\, Chocolate Dipped Biscotti\nFeaturing J. Carver Runestone 7 Year Straight Rye \nPurchase your tickets here and then let us pamper your taste buds and take care of every detail. Cheers! ✨🥃✨
URL:https://lolaslakehouse.com/event/j-carver-distillery-bourbon-rye-dinner/
CATEGORIES:Event
ATTACH;FMTTYPE=image/png:https://lolaslakehouse.com/wp-content/uploads/2024/08/Bourbon-Rye-Instagram-Post-1-e1722971753561.png
END:VEVENT
BEGIN:VEVENT
DTSTART;TZID=America/Chicago:20240821T170000
DTEND;TZID=America/Chicago:20240821T170000
DTSTAMP:20260425T052933
CREATED:20240805T053540Z
LAST-MODIFIED:20240805T053540Z
UID:2972-1724259600-1724259600@lolaslakehouse.com
SUMMARY:LIVE MUSIC: TYLER HERWIG
DESCRIPTION:
URL:https://lolaslakehouse.com/event/live-music-tyler-herwig-3/
CATEGORIES:Live Music
ATTACH;FMTTYPE=image/jpeg:https://lolaslakehouse.com/wp-content/uploads/2024/05/MusicTylerHerwigMusic-e1725421565455.jpeg
END:VEVENT
BEGIN:VEVENT
DTSTART;TZID=America/Chicago:20240818T120000
DTEND;TZID=America/Chicago:20240818T150000
DTSTAMP:20260425T052933
CREATED:20240805T053455Z
LAST-MODIFIED:20240805T053455Z
UID:2971-1723982400-1723993200@lolaslakehouse.com
SUMMARY:LIVE MUSIC: TRAVELED GROUND SOLO
DESCRIPTION:
URL:https://lolaslakehouse.com/event/live-music-traveled-ground-solo/
CATEGORIES:Live Music
ATTACH;FMTTYPE=image/jpeg:https://lolaslakehouse.com/wp-content/uploads/2024/05/MusicTraveledGroundSolo.jpg
END:VEVENT
BEGIN:VEVENT
DTSTART;TZID=America/Chicago:20240816T170000
DTEND;TZID=America/Chicago:20240816T170000
DTSTAMP:20260425T052933
CREATED:20240805T053353Z
LAST-MODIFIED:20240805T053353Z
UID:2970-1723827600-1723827600@lolaslakehouse.com
SUMMARY:LIVE MUSIC: THOMAS STICHA
DESCRIPTION:
URL:https://lolaslakehouse.com/event/live-music-thomas-sticha-3/
CATEGORIES:Live Music
ATTACH;FMTTYPE=image/jpeg:https://lolaslakehouse.com/wp-content/uploads/2024/05/MusicSticha-e1716994244194.jpg
END:VEVENT
BEGIN:VEVENT
DTSTART;TZID=America/Chicago:20240811T130000
DTEND;TZID=America/Chicago:20240811T130000
DTSTAMP:20260425T052933
CREATED:20240805T053229Z
LAST-MODIFIED:20240805T053229Z
UID:2969-1723381200-1723381200@lolaslakehouse.com
SUMMARY:LIVE MUSIC: Brandon Czock
DESCRIPTION:
URL:https://lolaslakehouse.com/event/live-music-brandon-czock-2/
CATEGORIES:Live Music
ATTACH;FMTTYPE=image/jpeg:https://lolaslakehouse.com/wp-content/uploads/2024/05/LLHMusicBrandonCzock-e1716996215337.jpeg
END:VEVENT
BEGIN:VEVENT
DTSTART;TZID=America/Chicago:20240807T170000
DTEND;TZID=America/Chicago:20240807T170000
DTSTAMP:20260425T052933
CREATED:20240805T053136Z
LAST-MODIFIED:20240805T053136Z
UID:2968-1723050000-1723050000@lolaslakehouse.com
SUMMARY:LIVE MUSIC: TRENT SHAW
DESCRIPTION:
URL:https://lolaslakehouse.com/event/live-music-trent-shaw-2/
CATEGORIES:Live Music
ATTACH;FMTTYPE=image/jpeg:https://lolaslakehouse.com/wp-content/uploads/2024/05/LLHMusicTrentShaw-e1716994665193.jpg
END:VEVENT
BEGIN:VEVENT
DTSTART;TZID=America/Chicago:20240728T130000
DTEND;TZID=America/Chicago:20240728T130000
DTSTAMP:20260425T052933
CREATED:20240723T160720Z
LAST-MODIFIED:20240723T161204Z
UID:2954-1722171600-1722171600@lolaslakehouse.com
SUMMARY:LIVE MUSIC: JOSIE SANKEN
DESCRIPTION:
URL:https://lolaslakehouse.com/event/live-music-josie-sanken/
CATEGORIES:Live Music
ATTACH;FMTTYPE=image/jpeg:https://lolaslakehouse.com/wp-content/uploads/2024/07/MusicJosieSanken.jpg
END:VEVENT
BEGIN:VEVENT
DTSTART;TZID=America/Chicago:20240724T170000
DTEND;TZID=America/Chicago:20240724T170000
DTSTAMP:20260425T052933
CREATED:20240723T160810Z
LAST-MODIFIED:20240723T161208Z
UID:2956-1721840400-1721840400@lolaslakehouse.com
SUMMARY:LIVE MUSIC: MIKE BUSTIN
DESCRIPTION:
URL:https://lolaslakehouse.com/event/live-music-mike-bustin-2/
CATEGORIES:Live Music
ATTACH;FMTTYPE=image/jpeg:https://lolaslakehouse.com/wp-content/uploads/2024/05/LLHMusicMikeBustin-e1716996038901.jpeg
END:VEVENT
BEGIN:VEVENT
DTSTART;TZID=America/Chicago:20240719T170000
DTEND;TZID=America/Chicago:20240719T170000
DTSTAMP:20260425T052933
CREATED:20240723T160915Z
LAST-MODIFIED:20240723T161212Z
UID:2957-1721408400-1721408400@lolaslakehouse.com
SUMMARY:LIVE MUSIC: REESE GLOVER
DESCRIPTION:
URL:https://lolaslakehouse.com/event/live-music-reese-glover-3/
CATEGORIES:Live Music
ATTACH;FMTTYPE=image/jpeg:https://lolaslakehouse.com/wp-content/uploads/2024/06/MusicReeseAlexanderGlover-e1717341685910.jpg
END:VEVENT
BEGIN:VEVENT
DTSTART;TZID=America/Chicago:20240718T180000
DTEND;TZID=America/Chicago:20240718T180000
DTSTAMP:20260425T052933
CREATED:20240723T161146Z
LAST-MODIFIED:20240723T161148Z
UID:2958-1721325600-1721325600@lolaslakehouse.com
SUMMARY:DAOU Vineyards Wine Dinner at Lola's Lakehouse
DESCRIPTION:Lola’s Lakehouse is thrilled to announce an exclusive wine & food pairing dinner in collaboration with DAOU Vineyards! With General Manager Ryan Sathre’s background as a Sommelier\, & Executive Chef Nathan Mickelsen’s passion for sophisticated fare\, the July 18th DAOU Vineyards Wine Dinner is sure to be a not-to-miss culinary event. \nSeats are limited\, so get your tickets today! \nDetails: \nJuly 18th\, 2024 at 6:00pm  \n$95.00 per person \nTo purchase tickets follow this link: DAOU Vineyards Wine Dinner at Lola’s Lakehouse \nAbout DAOU Vineyards \nNestled high in the hills of Paso Robles\, California\, DAOU Vineyards is celebrated for its luxurious Bordeaux wine varieties & majestic experiences. Known for their approachable & elegant wines\, DAOU Vineyards offers a taste of California’s central coast that leaves visitors with a sense of pleasure & belonging. \nAn Opulent Experience \nOn July 18th\, Lola’s Lakehouse will elevate its dining experience to new heights with an exclusive event featuring a 5-course meal crafted by Chef Nathan Mickelsen. Each course will be perfectly paired with 6 DAOU Vineyards wines curated by General Manager Ryan Sathre\, who believes DAOU Wines embody the best of Paso Robles with an approachable style that aligns perfectly with Lola’s.  \nGuests will also enjoy insights from DAOU Vineyards’ Paul Lorenzen\, making this event an unforgettable fusion of culinary and vinous excellence. Paul believes that food & wine pairings are a great way to educate people & showcase the talent of both artists – the winemaker & the chef. “I am proud to represent a passionate\, family-owned winery that will not compromise on quality!” \nTHE MENU \nFIRST COURSE \nSalmon Tartare Avocado Mousse with Osetra Caviar\nDAOU Vineyard\, Estate Sauvignon Blanc Paso Robles\, California\, 2022  \nSECOND COURSE\nRoasted Beets & Pistachios Orange Supremes\, Chevre\, Champagne Vinaigrette\nDAOU Vineyard\, Reserve Chardonnay Paso Robles\, California\, 2022  \nTHIRD COURSE\nSpaghetti Bolognese Beef\, Pork\, Veal\, Tomatoes\, Aged Parmesan\, Basil\nDAOU Vineyard\, Sequentis\, Reserve Merlot Paso Robles\, California\, 2021  \nFOURTH COURSE\nSpinalis Grilled Ribeye Cap\, Potato Pavé\, Red Wine Bone Marrow Butter\nDAOU Vineyard\, Estate Cabernet Sauvignon Paso Robles\, California\, 2022  \nFIFTH COURSE\nMomma’s Bon Bons Ganache Dipped Rum Cherry Ice Cream\, Toasted Hazelnuts \nJoin us for an evening of indulgence & discovery\, & experience the harmonious pairing of fine wines & gourmet cuisine at Lola’s Lakehouse. \nTo purchase tickets follow this link: DAOU Vineyards Wine Dinner at Lola’s Lakehouse \nPhotography: DAOU Vineyards
URL:https://lolaslakehouse.com/event/daou-vineyards-wine-dinner-at-lolas-lakehouse/
CATEGORIES:Event
ATTACH;FMTTYPE=image/png:https://lolaslakehouse.com/wp-content/uploads/2024/06/LLHEventsSummer.png
END:VEVENT
BEGIN:VEVENT
DTSTART;TZID=America/Chicago:20240717T160000
DTEND;TZID=America/Chicago:20240717T190000
DTSTAMP:20260425T052933
CREATED:20240723T161700Z
LAST-MODIFIED:20240723T161700Z
UID:2959-1721232000-1721242800@lolaslakehouse.com
SUMMARY:LIVE MUSIC: LIVE AT THE LAKE
DESCRIPTION:July 17th Lola’s Lakehouse is hosting Live at the Lake brought to you by Cities 97.1\, Zach Dillon\, and Leinenkugels\, featuring Sarah Reeves and Chris Depoian!  \nFrom 4:00pm – 7:00pm you’ll enjoy live music\, Leinenkugel’s happy hour specials\, food and drink from our newly updated menus… all lakeside!  \nCan you think of a better combination? We can’t! #seeyouatlolas
URL:https://lolaslakehouse.com/event/live-music-live-at-the-lake/
CATEGORIES:Live Music
ATTACH;FMTTYPE=image/png:https://lolaslakehouse.com/wp-content/uploads/2024/07/LiveAtTheLake.png
END:VEVENT
BEGIN:VEVENT
DTSTART;TZID=America/Chicago:20240714T130000
DTEND;TZID=America/Chicago:20240714T130000
DTSTAMP:20260425T052933
CREATED:20240723T161835Z
LAST-MODIFIED:20240723T161835Z
UID:2961-1720962000-1720962000@lolaslakehouse.com
SUMMARY:LIVE MUSIC: TRENT SHAW DUO
DESCRIPTION:
URL:https://lolaslakehouse.com/event/live-music-trent-shaw-duo/
CATEGORIES:Live Music
ATTACH;FMTTYPE=image/jpeg:https://lolaslakehouse.com/wp-content/uploads/2024/05/LLHMusicTrentShaw-e1716994665193.jpg
END:VEVENT
BEGIN:VEVENT
DTSTART;TZID=America/Chicago:20240712T180000
DTEND;TZID=America/Chicago:20240712T180000
DTSTAMP:20260425T052933
CREATED:20240723T162016Z
LAST-MODIFIED:20240723T162209Z
UID:2962-1720807200-1720807200@lolaslakehouse.com
SUMMARY:LIVE MUSIC: CHAD JOHNSON ACOUSTIC DUO
DESCRIPTION:
URL:https://lolaslakehouse.com/event/live-music-chad-johnson-acoustic-duo/
CATEGORIES:Live Music
ATTACH;FMTTYPE=image/jpeg:https://lolaslakehouse.com/wp-content/uploads/2024/07/MusicChadJohnsonAcousticDuo.jpg
END:VEVENT
BEGIN:VEVENT
DTSTART;TZID=America/Chicago:20240710T170000
DTEND;TZID=America/Chicago:20240710T170000
DTSTAMP:20260425T052933
CREATED:20240723T162147Z
LAST-MODIFIED:20240723T162147Z
UID:2964-1720630800-1720630800@lolaslakehouse.com
SUMMARY:LIVE MUSIC: TYLER HERWIG
DESCRIPTION:
URL:https://lolaslakehouse.com/event/live-music-tyler-herwig-2/
CATEGORIES:Live Music
ATTACH;FMTTYPE=image/jpeg:https://lolaslakehouse.com/wp-content/uploads/2024/05/MusicTylerHerwigMusic-e1725421565455.jpeg
END:VEVENT
BEGIN:VEVENT
DTSTART;TZID=America/Chicago:20240707T130000
DTEND;TZID=America/Chicago:20240707T130000
DTSTAMP:20260425T052933
CREATED:20240723T160251Z
LAST-MODIFIED:20240723T161219Z
UID:2952-1720357200-1720357200@lolaslakehouse.com
SUMMARY:LIVE MUSIC: THOMAS STICHA
DESCRIPTION:
URL:https://lolaslakehouse.com/event/live-music-thomas-sticha-2/
CATEGORIES:Live Music
ATTACH;FMTTYPE=image/jpeg:https://lolaslakehouse.com/wp-content/uploads/2024/05/MusicSticha-e1716994244194.jpg
END:VEVENT
BEGIN:VEVENT
DTSTART;TZID=America/Chicago:20240628T180000
DTEND;TZID=America/Chicago:20240628T180000
DTSTAMP:20260425T052933
CREATED:20240529T154317Z
LAST-MODIFIED:20240529T154317Z
UID:2644-1719597600-1719597600@lolaslakehouse.com
SUMMARY:Live Music: Bruce Bednarchuk
DESCRIPTION:
URL:https://lolaslakehouse.com/event/live-music-bruce-bednarchuk-2/
CATEGORIES:Live Music
ATTACH;FMTTYPE=image/jpeg:https://lolaslakehouse.com/wp-content/uploads/2024/05/MusicBruceBednarchuk01-e1716997234792.jpg
END:VEVENT
BEGIN:VEVENT
DTSTART;TZID=America/Chicago:20240626T170000
DTEND;TZID=America/Chicago:20240626T170000
DTSTAMP:20260425T052933
CREATED:20240529T152833Z
LAST-MODIFIED:20240529T152833Z
UID:2641-1719421200-1719421200@lolaslakehouse.com
SUMMARY:Live Music: Daniel Nathan
DESCRIPTION:
URL:https://lolaslakehouse.com/event/live-music-daniel-nathan/
CATEGORIES:Live Music
ATTACH;FMTTYPE=image/jpeg:https://lolaslakehouse.com/wp-content/uploads/2024/05/MusicDanielNathan-e1716996499315.jpeg
END:VEVENT
BEGIN:VEVENT
DTSTART;TZID=America/Chicago:20240623T130000
DTEND;TZID=America/Chicago:20240623T130000
DTSTAMP:20260425T052933
CREATED:20240529T152351Z
LAST-MODIFIED:20240529T152351Z
UID:2639-1719147600-1719147600@lolaslakehouse.com
SUMMARY:Live Music: Brandon Czock
DESCRIPTION:
URL:https://lolaslakehouse.com/event/live-music-brandon-czock/
CATEGORIES:Live Music
ATTACH;FMTTYPE=image/jpeg:https://lolaslakehouse.com/wp-content/uploads/2024/05/LLHMusicBrandonCzock-e1716996215337.jpeg
END:VEVENT
BEGIN:VEVENT
DTSTART;TZID=America/Chicago:20240619T170000
DTEND;TZID=America/Chicago:20240619T170000
DTSTAMP:20260425T052933
CREATED:20240529T152058Z
LAST-MODIFIED:20240529T152058Z
UID:2637-1718816400-1718816400@lolaslakehouse.com
SUMMARY:Live Music: Mike Bustin
DESCRIPTION:
URL:https://lolaslakehouse.com/event/live-music-mike-bustin/
CATEGORIES:Live Music
ATTACH;FMTTYPE=image/jpeg:https://lolaslakehouse.com/wp-content/uploads/2024/05/LLHMusicMikeBustin-e1716996038901.jpeg
END:VEVENT
BEGIN:VEVENT
DTSTART;TZID=America/Chicago:20240616T130000
DTEND;TZID=America/Chicago:20240616T130000
DTSTAMP:20260425T052933
CREATED:20240602T152147Z
LAST-MODIFIED:20240602T152147Z
UID:2647-1718542800-1718542800@lolaslakehouse.com
SUMMARY:Live Music: Reese Glover
DESCRIPTION:
URL:https://lolaslakehouse.com/event/live-music-reese-glover-2/
CATEGORIES:Live Music
ATTACH;FMTTYPE=image/jpeg:https://lolaslakehouse.com/wp-content/uploads/2024/06/MusicReeseAlexanderGlover-e1717341685910.jpg
END:VEVENT
BEGIN:VEVENT
DTSTART;TZID=America/Chicago:20240612T170000
DTEND;TZID=America/Chicago:20240612T170000
DTSTAMP:20260425T052933
CREATED:20240529T145102Z
LAST-MODIFIED:20240529T151727Z
UID:2630-1718211600-1718211600@lolaslakehouse.com
SUMMARY:Live Music: Thomas Sticha
DESCRIPTION:
URL:https://lolaslakehouse.com/event/live-music-thomas-sticha/
CATEGORIES:Live Music
ATTACH;FMTTYPE=image/jpeg:https://lolaslakehouse.com/wp-content/uploads/2024/05/MusicSticha-e1716994244194.jpg
END:VEVENT
BEGIN:VEVENT
DTSTART;TZID=America/Chicago:20240609T130000
DTEND;TZID=America/Chicago:20240609T130000
DTSTAMP:20260425T052933
CREATED:20240529T154616Z
LAST-MODIFIED:20240529T154616Z
UID:2646-1717938000-1717938000@lolaslakehouse.com
SUMMARY:Live Music: Rich Larson
DESCRIPTION:
URL:https://lolaslakehouse.com/event/live-music-rich-larson/
CATEGORIES:Live Music
ATTACH;FMTTYPE=image/png:https://lolaslakehouse.com/wp-content/uploads/2024/01/LLHLiveMusic2024-e1716993904866.png
END:VEVENT
BEGIN:VEVENT
DTSTART;TZID=America/Chicago:20240607T180000
DTEND;TZID=America/Chicago:20240607T180000
DTSTAMP:20260425T052933
CREATED:20240529T144837Z
LAST-MODIFIED:20240529T151740Z
UID:2629-1717783200-1717783200@lolaslakehouse.com
SUMMARY:Live Music: Ryan McGlennen
DESCRIPTION:
URL:https://lolaslakehouse.com/event/live-music-ryan-mcglennen-2/
CATEGORIES:Live Music
ATTACH;FMTTYPE=image/jpeg:https://lolaslakehouse.com/wp-content/uploads/2024/05/MusicRyanMcGlennenMusic-e1716994288456.jpg
END:VEVENT
END:VCALENDAR